BEGIN:VCALENDAR
VERSION:2.0
PRODID:-//Bridgetown Forge - ECPv6.15.20//NONSGML v1.0//EN
CALSCALE:GREGORIAN
METHOD:PUBLISH
X-WR-CALNAME:Bridgetown Forge
X-ORIGINAL-URL:https://www.bridgetownforge.com
X-WR-CALDESC:Events for Bridgetown Forge
REFRESH-INTERVAL;VALUE=DURATION:PT1H
X-Robots-Tag:noindex
X-PUBLISHED-TTL:PT1H
BEGIN:VTIMEZONE
TZID:America/Los_Angeles
BEGIN:DAYLIGHT
TZOFFSETFROM:-0800
TZOFFSETTO:-0700
TZNAME:PDT
DTSTART:20220313T100000
END:DAYLIGHT
BEGIN:STANDARD
TZOFFSETFROM:-0700
TZOFFSETTO:-0800
TZNAME:PST
DTSTART:20221106T090000
END:STANDARD
BEGIN:DAYLIGHT
TZOFFSETFROM:-0800
TZOFFSETTO:-0700
TZNAME:PDT
DTSTART:20230312T100000
END:DAYLIGHT
BEGIN:STANDARD
TZOFFSETFROM:-0700
TZOFFSETTO:-0800
TZNAME:PST
DTSTART:20231105T090000
END:STANDARD
BEGIN:DAYLIGHT
TZOFFSETFROM:-0800
TZOFFSETTO:-0700
TZNAME:PDT
DTSTART:20240310T100000
END:DAYLIGHT
BEGIN:STANDARD
TZOFFSETFROM:-0700
TZOFFSETTO:-0800
TZNAME:PST
DTSTART:20241103T090000
END:STANDARD
END:VTIMEZONE
BEGIN:VEVENT
DTSTART;TZID=America/Los_Angeles:20231221T173000
DTEND;TZID=America/Los_Angeles:20231221T203000
DTSTAMP:20260420T023851
CREATED:20231026T202423Z
LAST-MODIFIED:20231026T203313Z
UID:7534-1703179800-1703190600@www.bridgetownforge.com
SUMMARY:DECEMBER OPEN FORGE
DESCRIPTION:(DECEMBER MEMBERSHIP SESSIONS: Thursday\, November 7 and 21\, 2023)\nPlease Note: Open Forge is always on the 2nd and 4th Thursdays of each month\, from 5:30 to 8:30pm. \nStudents with previous class experience can work on their own projects in Bridgetown Forges Forge\, practicing their craft\, and forging elements\, tools\, and utensils of their choosing. \nStudents will have access to a whole slew of professional smithing equipment\, their own anvil and work station\, a constant access to a forge\, and any hand tool they might need for their project. If we don’t have a tool you need\, we’ll make it on the spot. \nMembership includes two 3-hour sessions with full use of the forge\, all safety equipment and fuel\, and an unlimited amount of mild steel. A nominal fee will be charged for the use of high-carbon or tool steel\, should your project require it. I encourage you to discuss your project with me\, to ensure maximum efficiency\, access to all needed tooling\, and to avoid undertaking projects beyond the scope of time and space available. \nMembership Price: $150/month
URL:https://www.bridgetownforge.com/event/december-open-forge-2/
LOCATION:Bridgetown Forge\, 1812 N. Columbia Blvd. Building A-2\, Portland\, Oregon\, 97217\, United States
CATEGORIES:OpenForge Membership
END:VEVENT
BEGIN:VEVENT
DTSTART;TZID=America/Los_Angeles:20231207T170000
DTEND;TZID=America/Los_Angeles:20231207T203000
DTSTAMP:20260420T023851
CREATED:20231026T202301Z
LAST-MODIFIED:20231026T203346Z
UID:7530-1701968400-1701981000@www.bridgetownforge.com
SUMMARY:DECEMBER OPEN FORGE
DESCRIPTION:(DECEMBER MEMBERSHIP SESSIONS: Thursday\, November 7 and 21\, 2023)\nPlease Note: Open Forge is always on the 2nd and 4th Thursdays of each month\, from 5:30 to 8:30pm. \nStudents with previous class experience can work on their own projects in Bridgetown Forges Forge\, practicing their craft\, and forging elements\, tools\, and utensils of their choosing. \nStudents will have access to a whole slew of professional smithing equipment\, their own anvil and work station\, a constant access to a forge\, and any hand tool they might need for their project. If we don’t have a tool you need\, we’ll make it on the spot. \nMembership includes two 3-hour sessions with full use of the forge\, all safety equipment and fuel\, and an unlimited amount of mild steel. A nominal fee will be charged for the use of high-carbon or tool steel\, should your project require it. I encourage you to discuss your project with me\, to ensure maximum efficiency\, access to all needed tooling\, and to avoid undertaking projects beyond the scope of time and space available. \nMembership Price: $150/month
URL:https://www.bridgetownforge.com/event/december-open-forge/
LOCATION:Bridgetown Forge\, 1812 N. Columbia Blvd. Building A-2\, Portland\, Oregon\, 97217\, United States
CATEGORIES:OpenForge Membership
END:VEVENT
BEGIN:VEVENT
DTSTART;TZID=America/Los_Angeles:20231123T173000
DTEND;TZID=America/Los_Angeles:20231123T203000
DTSTAMP:20260420T023851
CREATED:20231026T202027Z
LAST-MODIFIED:20231026T203153Z
UID:7526-1700760600-1700771400@www.bridgetownforge.com
SUMMARY:NOVEMBER OPEN FORGE
DESCRIPTION:(NOVEMBER MEMBERSHIP SESSIONS: Thursday\, November 9 and 23\, 2023)\nPlease Note: Open Forge is always on the 2nd and 4th Thursdays of each month\, from 5:30 to 8:30pm. \nStudents with previous class experience can work on their own projects in Bridgetown Forges Forge\, practicing their craft\, and forging elements\, tools\, and utensils of their choosing. \nStudents will have access to a whole slew of professional smithing equipment\, their own anvil and work station\, a constant access to a forge\, and any hand tool they might need for their project. If we don’t have a tool you need\, we’ll make it on the spot. \nMembership includes two 3-hour sessions with full use of the forge\, all safety equipment and fuel\, and an unlimited amount of mild steel. A nominal fee will be charged for the use of high-carbon or tool steel\, should your project require it. I encourage you to discuss your project with me\, to ensure maximum efficiency\, access to all needed tooling\, and to avoid undertaking projects beyond the scope of time and space available. \nMembership Price: $150/month
URL:https://www.bridgetownforge.com/event/november-open-forge/
LOCATION:Bridgetown Forge\, 1812 N. Columbia Blvd. Building A-2\, Portland\, Oregon\, 97217\, United States
CATEGORIES:OpenForge Membership
END:VEVENT
BEGIN:VEVENT
DTSTART;TZID=America/Los_Angeles:20231109T173000
DTEND;TZID=America/Los_Angeles:20231109T203000
DTSTAMP:20260420T023851
CREATED:20231026T201805Z
LAST-MODIFIED:20231026T203214Z
UID:7522-1699551000-1699561800@www.bridgetownforge.com
SUMMARY:NOVEMBER OPEN FORGE
DESCRIPTION:﻿(NOVEMBER MEMBERSHIP SESSIONS: Thursday\, November 9 and 23\, 2023)\nPlease Note: Open Forge is always on the 2nd and 4th Thursdays of each month\, from 5:30 to 8:30pm. \nStudents with previous class experience can work on their own projects in Bridgetown Forges Forge\, practicing their craft\, and forging elements\, tools\, and utensils of their choosing. \nStudents will have access to a whole slew of professional smithing equipment\, their own anvil and work station\, a constant access to a forge\, and any hand tool they might need for their project. If we don’t have a tool you need\, we’ll make it on the spot. \nMembership includes two 3-hour sessions with full use of the forge\, all safety equipment and fuel\, and an unlimited amount of mild steel. A nominal fee will be charged for the use of high-carbon or tool steel\, should your project require it. I encourage you to discuss your project with me\, to ensure maximum efficiency\, access to all needed tooling\, and to avoid undertaking projects beyond the scope of time and space available. \nMembership Price: $150/month
URL:https://www.bridgetownforge.com/event/november-openforge/
LOCATION:Bridgetown Forge\, 1812 N. Columbia Blvd. Building A-2\, Portland\, Oregon\, 97217\, United States
CATEGORIES:OpenForge Membership
END:VEVENT
END:VCALENDAR